BEGIN:VCALENDAR
VERSION:2.0
PRODID:-//Tukios.com/
BEGIN:VEVENT
UID:5328cb7b-77b5-4572-b80e-5a62695f5890@www.jpholley.com
DTSTAMP:20260421T095429Z
DTSTART:20260501T210000Z
DTEND:20260501T230000Z
SUMMARY:Visitation
DESCRIPTION:
URL:https://www.jpholley.com/obituaries/karren-spencer
LOCATION: 9010 Farrow Rd  Columbia SC 29203
GEO:34.1086504;-80.9489181
END:VEVENT
END:VCALENDAR