BEGIN:VCALENDAR
VERSION:2.0
PRODID:-//Tukios.com/
BEGIN:VEVENT
UID:617499fa-6f55-49f5-8858-72eea3076a6d@www.jpholley.com
DTSTAMP:20260422T033425Z
DTSTART:20260430T170000Z
DTEND:20260430T173000Z
SUMMARY:Interment
DESCRIPTION:
URL:https://www.jpholley.com/obituaries/douglas-d-goodwin-jr
LOCATION: 1178 Heyward Brockington Road  Columbia SC 29203
GEO:34.0926352;-81.0625288
END:VEVENT
END:VCALENDAR