BEGIN:VCALENDAR
VERSION:2.0
PRODID:-//Tukios.com/
BEGIN:VEVENT
UID:2eb608ad-b14b-4715-9858-2320e124f802@www.jpholley.com
DTSTAMP:20260422T033943Z
DTSTART:20260430T150000Z
DTEND:20260430T170000Z
SUMMARY:Celebration of Life
DESCRIPTION:
URL:https://www.jpholley.com/obituaries/douglas-d-goodwin-jr
LOCATION: 8132 Garners Ferry Rd  Columbia SC 29209
GEO:33.9498756;-80.913573
END:VEVENT
END:VCALENDAR