BEGIN:VCALENDAR
VERSION:2.0
PRODID:-//Tukios.com/
BEGIN:VEVENT
UID:46d9da8e-3850-478d-b517-f51aff331a69@www.jpholley.com
DTSTAMP:20260422T034232Z
DTSTART:20260429T210000Z
DTEND:20260429T230000Z
SUMMARY:Visitation
DESCRIPTION:
URL:https://www.jpholley.com/obituaries/douglas-d-goodwin-jr
LOCATION: 8132 Garners Ferry Rd  Columbia SC 29209
GEO:33.9498756;-80.913573
END:VEVENT
END:VCALENDAR