BEGIN:VCALENDAR
VERSION:2.0
PRODID:-//Tukios.com/
BEGIN:VEVENT
UID:bee7d13b-75de-455b-93c6-af80d6230905@www.jpholley.com
DTSTAMP:20260423T024717Z
DTSTART:20260501
SUMMARY:Interment
DESCRIPTION:
URL:https://www.jpholley.com/obituaries/derek-mobley
LOCATION: 4170 Percival Rd  Columbia SC 29229
GEO:34.0903171;-80.8490628
END:VEVENT
END:VCALENDAR