BEGIN:VCALENDAR
VERSION:2.0
PRODID:-//Tukios.com/
BEGIN:VEVENT
UID:03360d8a-cfc1-46d3-b8ae-8608f7365b81@www.jpholley.com
DTSTAMP:20260423T023419Z
DTSTART:20260501T140000Z
DTEND:20260501T150000Z
SUMMARY:Celebration of Life
DESCRIPTION:
URL:https://www.jpholley.com/obituaries/derek-mobley
LOCATION: 8132 Garners Ferry Rd  Columbia SC 29209
GEO:33.9498756;-80.913573
END:VEVENT
END:VCALENDAR