BEGIN:VCALENDAR
VERSION:2.0
PRODID:-//Tukios.com/
BEGIN:VEVENT
UID:1585fcd6-869a-40c7-bdc6-142db3fadb4b@www.jpholley.com
DTSTAMP:20260423T022930Z
DTSTART:20260430T210000Z
DTEND:20260430T230000Z
SUMMARY:Visitation
DESCRIPTION:
URL:https://www.jpholley.com/obituaries/derek-mobley
LOCATION: 8132 Garners Ferry Rd  Columbia SC 29209
GEO:33.9498756;-80.913573
END:VEVENT
END:VCALENDAR