BEGIN:VCALENDAR
VERSION:2.0
PRODID:-//Tukios.com/
BEGIN:VEVENT
UID:6928a4f6-da2e-47e6-b32d-3de6149a6c75@www.jpholley.com
DTSTAMP:20260425T004821Z
DTSTART:20260503T173000Z
DTEND:20260503T183000Z
SUMMARY:Memorial Service
DESCRIPTION:
URL:https://www.jpholley.com/obituaries/david-dials
LOCATION:JP Holley Funeral Home Northeast Chapel 9010 Farrow Rd  Columbia 
	SC 29203
GEO:34.1086504;-80.9489181
END:VEVENT
END:VCALENDAR