BEGIN:VCALENDAR
VERSION:2.0
PRODID:-//Tukios.com/
BEGIN:VEVENT
UID:ebb9389e-bfca-444e-ad17-7ae727282a1b@www.jpholley.com
DTSTAMP:20260424T215305Z
DTSTART:20260428T210000Z
DTEND:20260428T230000Z
SUMMARY:Visitation
DESCRIPTION:
URL:https://www.jpholley.com/obituaries/christopher-harris
LOCATION: 8132 Garners Ferry Rd  Columbia SC 29209
GEO:33.9498756;-80.913573
END:VEVENT
END:VCALENDAR