BEGIN:VCALENDAR
VERSION:2.0
PRODID:-//Tukios.com/
BEGIN:VEVENT
UID:ac4b450d-cdf6-4157-9b5b-d9d6a81c8bb8@www.jpholley.com
DTSTAMP:20260424T215159Z
DTSTART:20260429T170000Z
DTEND:20260429T180000Z
SUMMARY:Celebration of Life
DESCRIPTION:
URL:https://www.jpholley.com/obituaries/christopher-harris
LOCATION: 8132 Garners Ferry Rd  Columbia SC 29209
GEO:33.9498756;-80.913573
END:VEVENT
END:VCALENDAR