BEGIN:VCALENDAR
VERSION:2.0
PRODID:-//Tukios.com/
BEGIN:VEVENT
UID:7e1c0687-b28b-4af4-96b2-c3bf2bb440b8@www.jpholley.com
DTSTAMP:20260421T003156Z
DTSTART:20260427T150000Z
DTEND:20260427T160000Z
SUMMARY:Memorial Service
DESCRIPTION:
URL:https://www.jpholley.com/obituaries/benjy-anderson
LOCATION:JP Holley Funeral Home Northeast Chapel 9010 Farrow Rd  Columbia 
	SC 29203
GEO:34.1086504;-80.9489181
END:VEVENT
END:VCALENDAR