BEGIN:VCALENDAR
VERSION:2.0
PRODID:-//Tukios.com/
BEGIN:VEVENT
UID:6354bd19-b530-4d15-9bcd-1d0b74f1df04@www.jpholley.com
DTSTAMP:20260423T142109Z
DTSTART:20260425
SUMMARY:Burial
DESCRIPTION:
URL:https://www.jpholley.com/obituaries/arthur-snipe-jr
LOCATION: 7100 Garners Ferry Rd  Columbia SC 29209
GEO:33.9741058;-80.9504114
END:VEVENT
END:VCALENDAR