BEGIN:VCALENDAR
VERSION:2.0
PRODID:-//Tukios.com/
BEGIN:VEVENT
UID:884c9e4c-4678-4a51-a36c-faab862c73ab@www.jpholley.com
DTSTAMP:20260423T141031Z
DTSTART:20260425T150000Z
DTEND:20260425T160000Z
SUMMARY:Celebration of Life
DESCRIPTION:
URL:https://www.jpholley.com/obituaries/arthur-snipe-jr
LOCATION: 2351 Gervais Street  Columbia SC 29204
GEO:34.0079713;-81.0140968
END:VEVENT
END:VCALENDAR