BEGIN:VCALENDAR
VERSION:2.0
PRODID:-//Tukios.com/
BEGIN:VEVENT
UID:f72c612f-a8a2-4185-bf34-2003effbf68f@www.jpholley.com
DTSTAMP:20260423T141341Z
DTSTART:20260424T170000Z
DTEND:20260424T220000Z
SUMMARY:Visitation
DESCRIPTION:
URL:https://www.jpholley.com/obituaries/arthur-snipe-jr
LOCATION: 9010 Farrow Rd  Columbia SC 29203
GEO:34.1086504;-80.9489181
END:VEVENT
END:VCALENDAR